BEGIN:VCALENDAR
VERSION:2.0
PRODID:-//Tukios.com/
BEGIN:VEVENT
UID:90ddadd7-1c29-43dd-a928-8c4b8023470f@www.lawrencegabrielfuneralhomes.com
DTSTAMP:20260422T182446Z
DTSTART:20260425T133000Z
DTEND:20260425T143000Z
SUMMARY:Mass
DESCRIPTION:
URL:https://www.lawrencegabrielfuneralhomes.com/obituaries/irene-harcharik-hermanovich
LOCATION:SS Cyril & Methodius Ukrainian Catholic Church 135 North River 
	Street  Olyphant PA 18447
GEO:41.4713233;-75.604521
END:VEVENT
END:VCALENDAR