BEGIN:VCALENDAR
VERSION:2.0
PRODID:-//Tukios.com/
BEGIN:VEVENT
UID:41f03287-9a9a-4921-9f6c-c2cf0312787d@www.lawrencegabrielfuneralhomes.com
DTSTAMP:20260422T182324Z
DTSTART:20260424T210000Z
DTEND:20260424T230000Z
SUMMARY:Viewing
DESCRIPTION:
URL:https://www.lawrencegabrielfuneralhomes.com/obituaries/irene-harcharik-hermanovich
LOCATION:Hudak-O’Shea & Gabriel Funeral Home and Cremation Services, 
	Inc. 115 North Garfield Avenue  Olyphant PA 18447
GEO:41.4676805;-75.6024176
END:VEVENT
END:VCALENDAR